BEGIN:VCALENDAR
VERSION:2.0
PRODID:spatie/icalendar-generator
DESCRIPTION:Hendelser fra Monu(mo)ments
X-WR-CALDESC:Hendelser fra Monu(mo)ments
REFRESH-INTERVAL;VALUE=DURATION:PT1440M
X-PUBLISHED-TTL:PT1440M
BEGIN:VTIMEZONE
TZID:Etc/GMT+0
BEGIN:STANDARD
DTSTART:20231012T193000Z
TZOFFSETFROM:+0000
TZOFFSETTO:+0000
END:STANDARD
END:VTIMEZONE
BEGIN:VTIMEZONE
TZID:UTC
BEGIN:STANDARD
DTSTART:20250727T091409Z
TZOFFSETFROM:+0000
TZOFFSETTO:+0000
END:STANDARD
END:VTIMEZONE
BEGIN:VEVENT
UID:2-1
DTSTAMP:20260423T091409Z
SUMMARY:Chollada's trip
LOCATION:
ORGANIZER;CN=Eliot Moleba:MAILTO:info@eliotmoleba.com
DTSTART;TZID=Etc/GMT+0:20240708T193000
DTEND;TZID=Etc/GMT+0:20240715T210000
X-ALT-DESC;FMTTYPE=TEXT/HTML:<p>Rico On the Run (2.0) is officially out on 
 his holiday adventures with @chollada.phinitduang\, the narrator whose sto
 ry inspired the monu(mo)ment.</p>\n
CATEGORIES:General
URL;VALUE=URI:https://www.monumoments.no/nb/mc-events/cholladas-trip/
METHOD:PUBLISH
END:VEVENT
END:VCALENDAR